BEGIN:VCALENDAR
VERSION:2.0
PRODID:-//Tukios.com/
BEGIN:VEVENT
UID:d2384084-75d5-48dc-9b47-f80558fec17d@www.winnfieldfuneralhome-shreveport.com
DTSTAMP:20260420T214910Z
DTSTART:20260425T160000Z
DTEND:20260425T170000Z
SUMMARY:Graveside Service
DESCRIPTION:
URL:https://www.winnfieldfuneralhome-shreveport.com/obituaries/jannie-casey-hawkins
LOCATION: 6915 West 70th Street  Shreveport LA 71129
GEO:32.441408;-93.8964414
END:VEVENT
END:VCALENDAR