BEGIN:VCALENDAR
VERSION:2.0
PRODID:-//Tukios.com/
BEGIN:VEVENT
UID:5d75c023-e9e2-4875-a6ff-9589fba31d17@www.winnfieldfuneralhome-shreveport.com
DTSTAMP:20260424T175929Z
DTSTART:20260502T160000Z
DTEND:20260502T170000Z
SUMMARY:Graveside Service
DESCRIPTION:
URL:https://www.winnfieldfuneralhome-shreveport.com/obituaries/deborah-jones
LOCATION: 6915 West 70th Street  Shreveport LA 71129
GEO:32.441408;-93.8964414
END:VEVENT
END:VCALENDAR