BEGIN:VCALENDAR
VERSION:2.0
PRODID:-//Tukios.com/
BEGIN:VEVENT
UID:b3488ac6-4e74-4146-b72b-8bd57d160ec0@www.winnfieldfuneralhome-shreveport.com
DTSTAMP:20260424T180620Z
DTSTART:20260501T230000Z
DTEND:20260502T000000Z
SUMMARY:Family Hour
DESCRIPTION:
URL:https://www.winnfieldfuneralhome-shreveport.com/obituaries/deborah-jones
LOCATION: 3701 Hollywood Ave  Shreveport LA 71109
GEO:32.4560081;-93.7978869
END:VEVENT
END:VCALENDAR