BEGIN:VCALENDAR
VERSION:2.0
PRODID:-//Tukios.com/
BEGIN:VEVENT
UID:67ffdba4-e994-4015-a0e2-ae60706a7b0b@www.winnfieldfuneralhome-shreveport.com
DTSTAMP:20260424T180148Z
DTSTART:20260501T180000Z
DTEND:20260501T230000Z
SUMMARY:Open Visitation
DESCRIPTION:
URL:https://www.winnfieldfuneralhome-shreveport.com/obituaries/deborah-jones
LOCATION: 3701 Hollywood Ave  Shreveport LA 71109
GEO:32.4560081;-93.7978869
END:VEVENT
END:VCALENDAR